BEGIN:VCALENDAR
VERSION:2.0
PRODID:-//Sabre//Sabre VObject 4.5.8//EN
CALSCALE:GREGORIAN
BEGIN:VEVENT
UID:criticalmass-one-loerrach-1575046800
DTSTAMP:20260424T134448Z
SUMMARY:Critical Mass Lörrach 29.11.2019
DTSTART;TZID=Europe/Berlin:20191129T180000
DTEND;TZID=Europe/Berlin:20191129T200000
LOCATION:Velö Einstellhalle
GEO:47.614966;7.665807
URL;VALUE=URI:https://criticalmass.in/loerrach/2019-11-29
END:VEVENT
END:VCALENDAR
