BEGIN:VCALENDAR
VERSION:2.0
PRODID:-//Sabre//Sabre VObject 4.5.8//EN
CALSCALE:GREGORIAN
BEGIN:VEVENT
UID:criticalmass-one-loerrach-1567173600
DTSTAMP:20260424T012044Z
SUMMARY:Critical Mass Lörrach 30.08.2019
DTSTART;TZID=Europe/Berlin:20190830T160000
DTEND;TZID=Europe/Berlin:20190830T180000
LOCATION:Velostation Lörrach
GEO:47.613858;7.664783
URL;VALUE=URI:https://criticalmass.in/loerrach/2019-08-30
END:VEVENT
END:VCALENDAR
