BEGIN:VCALENDAR
VERSION:2.0
PRODID:-//Sabre//Sabre VObject 4.5.8//EN
CALSCALE:GREGORIAN
BEGIN:VEVENT
UID:criticalmass-one-loerrach-1556287200
DTSTAMP:20260425T233129Z
SUMMARY:Critical Mass Lörrach 26.04.2019
DTSTART;TZID=Europe/Berlin:20190426T160000
DTEND;TZID=Europe/Berlin:20190426T180000
LOCATION:Velostation Lörrach
GEO:47.613858;7.664783
URL;VALUE=URI:https://criticalmass.in/loerrach/2019-04-26
END:VEVENT
END:VCALENDAR
