BEGIN:VCALENDAR
VERSION:2.0
PRODID:-//Sabre//Sabre VObject 4.5.8//EN
CALSCALE:GREGORIAN
BEGIN:VEVENT
UID:criticalmass-one-loerrach-1540562400
DTSTAMP:20260423T212129Z
SUMMARY:Critical Mass Lörrach 26.10.2018
DTSTART;TZID=Europe/Berlin:20181026T160000
DTEND;TZID=Europe/Berlin:20181026T180000
LOCATION:Velostation Lörrach
GEO:47.613858;7.664783
URL;VALUE=URI:https://criticalmass.in/loerrach/2018-10-26
END:VEVENT
END:VCALENDAR
