BEGIN:VCALENDAR
VERSION:2.0
PRODID:-//Sabre//Sabre VObject 4.5.8//EN
CALSCALE:GREGORIAN
BEGIN:VEVENT
UID:criticalmass-one-loerrach-1530280800
DTSTAMP:20260424T000408Z
SUMMARY:Critical Mass Lörrach 29.06.2018
DTSTART;TZID=Europe/Berlin:20180629T160000
DTEND;TZID=Europe/Berlin:20180629T180000
LOCATION:Velostation Lörrach
GEO:47.613858;7.664783
URL;VALUE=URI:https://criticalmass.in/loerrach/2018-06-29
END:VEVENT
END:VCALENDAR
