BEGIN:VCALENDAR
VERSION:2.0
PRODID:-//Sabre//Sabre VObject 4.5.8//EN
CALSCALE:GREGORIAN
BEGIN:VEVENT
UID:criticalmass-one-loerrach-1498831200
DTSTAMP:20260424T121139Z
SUMMARY:Critical Mass Lörrach 30.06.2017
DTSTART;TZID=Europe/Berlin:20170630T160000
DTEND;TZID=Europe/Berlin:20170630T180000
LOCATION:Velostation Lörrach
GEO:47.613858;7.664783
URL;VALUE=URI:https://criticalmass.in/loerrach/2017-06-30
END:VEVENT
END:VCALENDAR
