BEGIN:VCALENDAR
VERSION:2.0
PRODID:-//Sabre//Sabre VObject 4.5.8//EN
CALSCALE:GREGORIAN
BEGIN:VEVENT
UID:criticalmass-one-loerrach-1483106400
DTSTAMP:20260425T233756Z
SUMMARY:Critical Mass Lörrach 30.12.2016
DTSTART;TZID=Europe/Berlin:20161230T150000
DTEND;TZID=Europe/Berlin:20161230T170000
LOCATION:Velostation Lörrach
GEO:47.613858;7.664783
URL;VALUE=URI:https://criticalmass.in/loerrach/2016-12-30
END:VEVENT
END:VCALENDAR
