BEGIN:VCALENDAR
VERSION:2.0
PRODID:-//Sabre//Sabre VObject 4.5.8//EN
CALSCALE:GREGORIAN
BEGIN:VEVENT
UID:criticalmass-one-loerrach-1475251200
DTSTAMP:20260424T030039Z
SUMMARY:Critical Mass Lörrach 30.09.2016
DTSTART;TZID=Europe/Berlin:20160930T180000
DTEND;TZID=Europe/Berlin:20160930T200000
LOCATION:Velostation Lörrach
GEO:47.613858;7.664783
URL;VALUE=URI:https://criticalmass.in/loerrach/2016-09-30
END:VEVENT
END:VCALENDAR
