BEGIN:VCALENDAR
VERSION:2.0
PRODID:-//Sabre//Sabre VObject 4.5.8//EN
CALSCALE:GREGORIAN
BEGIN:VEVENT
UID:criticalmass-one-lisboa-1758443400
DTSTAMP:20260424T182010Z
SUMMARY:Kidical Mass Lisboa 21.09.2025
DESCRIPTION:https://kidicalmass.pt/
DTSTART;TZID=Europe/Berlin:20250921T103000
DTEND;TZID=Europe/Berlin:20250921T123000
LOCATION:Lisboa Praça do Comércio
GEO:38.707283;-9.136361
URL;VALUE=URI:https://criticalmass.in/lisboa/kidical-mass-lisboa-september-
 2025
END:VEVENT
END:VCALENDAR
