BEGIN:VCALENDAR
VERSION:2.0
PRODID:-//Sabre//Sabre VObject 4.5.8//EN
CALSCALE:GREGORIAN
BEGIN:VEVENT
UID:criticalmass-one-lisboa-1746952200
DTSTAMP:20260419T152353Z
SUMMARY:Kidical Mass Lisboa 11.05.2025
DESCRIPTION:A Kidical Mass (Massa Crítica de Crianças) é um movimento gl
 obal que procura responder e dar visibilidade à necessidade e vontade das
  famílias usarem modos ativos nas suas deslocações diárias (bicicleta\
 , caminhar\, patins\, skate\, etc.)\, exigindo a melhoria da infraestrutur
 a ciclável e a pacificação das ruas\, principalmente nas envolventes es
 colares. O mote da Kidical Mass é “Espaço para esta Geração”
DTSTART;TZID=Europe/Berlin:20250511T103000
DTEND;TZID=Europe/Berlin:20250511T123000
LOCATION:Lisboa Alameda da Cidade Universitária
GEO:38.752817;-9.156179
URL;VALUE=URI:https://criticalmass.in/lisboa/kidical-mass-lisboa-mai-2025
END:VEVENT
END:VCALENDAR
