BEGIN:VCALENDAR
VERSION:2.0
PRODID:-//Sabre//Sabre VObject 4.5.8//EN
CALSCALE:GREGORIAN
BEGIN:VEVENT
UID:criticalmass-one-lisboa-1771358400
DTSTAMP:20260423T064925Z
SUMMARY:Lisboa 17.02.2026
DTSTART;TZID=Europe/Berlin:20260217T210000
DTEND;TZID=Europe/Berlin:20260217T230000
LOCATION:Monumento ao Duque da Saldenha
GEO:38.733146;-9.144894
URL;VALUE=URI:https://criticalmass.in/lisboa/2026-02-17
END:VEVENT
END:VCALENDAR
