BEGIN:VCALENDAR
VERSION:2.0
PRODID:-//Sabre//Sabre VObject 4.5.8//EN
CALSCALE:GREGORIAN
BEGIN:VEVENT
UID:criticalmass-one-lisboa-1768334400
DTSTAMP:20260424T134652Z
SUMMARY:Lisboa 13.01.2026
DTSTART;TZID=Europe/Berlin:20260113T210000
DTEND;TZID=Europe/Berlin:20260113T230000
LOCATION:Monumento ao Duque da Saldenha
GEO:38.733224;-9.144876
URL;VALUE=URI:https://criticalmass.in/lisboa/2026-01-13
END:VEVENT
END:VCALENDAR
