BEGIN:VCALENDAR
VERSION:2.0
PRODID:-//Sabre//Sabre VObject 4.5.8//EN
CALSCALE:GREGORIAN
BEGIN:VEVENT
UID:criticalmass-one-lisboa-1764349200
DTSTAMP:20260425T233822Z
SUMMARY:Lisboa 28.11.2025
DTSTART;TZID=Europe/Berlin:20251128T180000
DTEND;TZID=Europe/Berlin:20251128T200000
LOCATION:Marques De Pombal
GEO:38.725832;-9.150537
URL;VALUE=URI:https://criticalmass.in/lisboa/2025-11-28
END:VEVENT
END:VCALENDAR
