BEGIN:VCALENDAR
VERSION:2.0
PRODID:-//Sabre//Sabre VObject 4.5.8//EN
CALSCALE:GREGORIAN
BEGIN:VEVENT
UID:criticalmass-one-lisboa-1752001200
DTSTAMP:20260424T121534Z
SUMMARY:Lisboa 08.07.2025
DTSTART;TZID=Europe/Berlin:20250708T210000
DTEND;TZID=Europe/Berlin:20250708T230000
LOCATION:Monumento ao Duque da Saldenha
GEO:38.733224;-9.144876
URL;VALUE=URI:https://criticalmass.in/lisboa/2025-07-08
END:VEVENT
END:VCALENDAR
