BEGIN:VCALENDAR
VERSION:2.0
PRODID:-//Sabre//Sabre VObject 4.5.8//EN
CALSCALE:GREGORIAN
BEGIN:VEVENT
UID:criticalmass-one-lisboa-1740513600
DTSTAMP:20260424T000747Z
SUMMARY:Lisboa 25.02.2025
DTSTART;TZID=Europe/Berlin:20250225T210000
DTEND;TZID=Europe/Berlin:20250225T230000
LOCATION:Monumento ao Duque da Saldenha
GEO:38.733125;-9.144853
URL;VALUE=URI:https://criticalmass.in/lisboa/2025-02-25
END:VEVENT
END:VCALENDAR
