BEGIN:VCALENDAR
VERSION:2.0
PRODID:-//Sabre//Sabre VObject 4.5.8//EN
CALSCALE:GREGORIAN
BEGIN:VEVENT
UID:criticalmass-one-lisboa-1738699200
DTSTAMP:20260424T220255Z
SUMMARY:Lisboa 04.02.2025
DTSTART;TZID=Europe/Berlin:20250204T210000
DTEND;TZID=Europe/Berlin:20250204T230000
LOCATION:Monumento ao Duque da Saldenha
GEO:38.733137;-9.144900
URL;VALUE=URI:https://criticalmass.in/lisboa/2025-02-04
END:VEVENT
END:VCALENDAR
