BEGIN:VCALENDAR
VERSION:2.0
PRODID:-//Sabre//Sabre VObject 4.5.8//EN
CALSCALE:GREGORIAN
BEGIN:VEVENT
UID:criticalmass-one-lisboa-1737489600
DTSTAMP:20260424T134530Z
SUMMARY:Lisboa 21.01.2025
DTSTART;TZID=Europe/Berlin:20250121T210000
DTEND;TZID=Europe/Berlin:20250121T230000
LOCATION:Monumento ao Duque da Saldenha
GEO:38.733146;-9.144894
URL;VALUE=URI:https://criticalmass.in/lisboa/2025-01-21
END:VEVENT
END:VCALENDAR
