BEGIN:VCALENDAR
VERSION:2.0
PRODID:-//Sabre//Sabre VObject 4.5.8//EN
CALSCALE:GREGORIAN
BEGIN:VEVENT
UID:criticalmass-one-lisboa-1732651200
DTSTAMP:20260423T213256Z
SUMMARY:Lisboa 26.11.2024
DTSTART;TZID=Europe/Berlin:20241126T210000
DTEND;TZID=Europe/Berlin:20241126T230000
LOCATION:Monumento ao Duque da Saldenha
GEO:38.733125;-9.144853
URL;VALUE=URI:https://criticalmass.in/lisboa/2024-11-26
END:VEVENT
END:VCALENDAR
