BEGIN:VCALENDAR
VERSION:2.0
PRODID:-//Sabre//Sabre VObject 4.5.8//EN
CALSCALE:GREGORIAN
BEGIN:VEVENT
UID:criticalmass-one-lisboa-1718737200
DTSTAMP:20260424T192354Z
SUMMARY:Lisboa 18.06.2024
DTSTART;TZID=Europe/Berlin:20240618T210000
DTEND;TZID=Europe/Berlin:20240618T230000
LOCATION:Monumento ao Duque da Saldenha
GEO:38.733146;-9.144894
URL;VALUE=URI:https://criticalmass.in/lisboa/2024-06-18
END:VEVENT
END:VCALENDAR
