BEGIN:VCALENDAR
VERSION:2.0
PRODID:-//Sabre//Sabre VObject 4.5.8//EN
CALSCALE:GREGORIAN
BEGIN:VEVENT
UID:criticalmass-one-lindau-am-bodensee-1692977400
DTSTAMP:20260423T190119Z
SUMMARY:Critical Mass Lindau 25.08.2023
DTSTART;TZID=Europe/Berlin:20230825T173000
DTEND;TZID=Europe/Berlin:20230825T193000
LOCATION:Lindau Hauptbahnhof am Hafen\, Fahrrad-Selbsthilfestation
GEO:47.543997;9.681948
URL;VALUE=URI:https://criticalmass.in/lindau-am-bodensee/2023-08-25
END:VEVENT
END:VCALENDAR
