BEGIN:VCALENDAR
VERSION:2.0
PRODID:-//Sabre//Sabre VObject 4.5.8//EN
CALSCALE:GREGORIAN
BEGIN:VEVENT
UID:criticalmass-one-lindau-am-bodensee-1656084600
DTSTAMP:20260423T190117Z
SUMMARY:Critical Mass Lindau 24.06.2022
DTSTART;TZID=Europe/Berlin:20220624T173000
DTEND;TZID=Europe/Berlin:20220624T193000
LOCATION:Lindau Hauptbahnhof am Hafen\, Fahrrad-Selbsthilfestation
GEO:47.543997;9.681948
URL;VALUE=URI:https://criticalmass.in/lindau-am-bodensee/2022-06-24
END:VEVENT
END:VCALENDAR
