BEGIN:VCALENDAR
VERSION:2.0
PRODID:-//Sabre//Sabre VObject 4.5.8//EN
CALSCALE:GREGORIAN
BEGIN:VEVENT
UID:criticalmass-one-lindau-am-bodensee-1637944200
DTSTAMP:20260423T190118Z
SUMMARY:Critical Mass Lindau 26.11.2021
DTSTART;TZID=Europe/Berlin:20211126T173000
DTEND;TZID=Europe/Berlin:20211126T193000
LOCATION:Lindau Hauptbahnhof am Hafen\, Fahrrad-Selbsthilfestation
GEO:47.543997;9.681948
URL;VALUE=URI:https://criticalmass.in/lindau-am-bodensee/2021-11-26
END:VEVENT
END:VCALENDAR
