BEGIN:VCALENDAR
VERSION:2.0
PRODID:-//Sabre//Sabre VObject 4.5.8//EN
CALSCALE:GREGORIAN
BEGIN:VEVENT
UID:criticalmass-one-lindau-am-bodensee-1632497400
DTSTAMP:20260425T010829Z
SUMMARY:Critical Mass Lindau 24.09.2021
DTSTART;TZID=Europe/Berlin:20210924T173000
DTEND;TZID=Europe/Berlin:20210924T193000
LOCATION:Lindau Hauptbahnhof am Hafen\, Fahrrad-Selbsthilfestation
GEO:47.543997;9.681948
URL;VALUE=URI:https://criticalmass.in/lindau-am-bodensee/2021-09-24
END:VEVENT
END:VCALENDAR
