BEGIN:VCALENDAR
VERSION:2.0
PRODID:-//Sabre//Sabre VObject 4.5.8//EN
CALSCALE:GREGORIAN
BEGIN:VEVENT
UID:criticalmass-one-lindau-am-bodensee-1624635000
DTSTAMP:20260423T190126Z
SUMMARY:Critical Mass Lindau 25.06.2021
DTSTART;TZID=Europe/Berlin:20210625T173000
DTEND;TZID=Europe/Berlin:20210625T193000
LOCATION:Lindau Hauptbahnhof am Hafen\, Fahrrad-Selbsthilfestation
GEO:47.543997;9.681948
URL;VALUE=URI:https://criticalmass.in/lindau-am-bodensee/2021-06-25
END:VEVENT
END:VCALENDAR
