BEGIN:VCALENDAR
VERSION:2.0
PRODID:-//Sabre//Sabre VObject 4.5.8//EN
CALSCALE:GREGORIAN
BEGIN:VEVENT
UID:criticalmass-one-lindau-am-bodensee-1619789400
DTSTAMP:20260425T214719Z
SUMMARY:Critical Mass Lindau 30.04.2021
DTSTART;TZID=Europe/Berlin:20210430T153000
DTEND;TZID=Europe/Berlin:20210430T173000
LOCATION:Lindau Hauptbahnhof am Hafen\, Fahrrad-Selbsthilfestation
GEO:47.543997;9.681948
URL;VALUE=URI:https://criticalmass.in/lindau-am-bodensee/2021-04-30
END:VEVENT
END:VCALENDAR
