BEGIN:VCALENDAR
VERSION:2.0
PRODID:-//Sabre//Sabre VObject 4.5.8//EN
CALSCALE:GREGORIAN
BEGIN:VEVENT
UID:criticalmass-one-lindau-am-bodensee-1606494600
DTSTAMP:20260423T185211Z
SUMMARY:Critical Mass Lindau 27.11.2020
DTSTART;TZID=Europe/Berlin:20201127T173000
DTEND;TZID=Europe/Berlin:20201127T193000
LOCATION:Lindau Hauptbahnhof am Hafen\, Fahrrad-Selbsthilfestation
GEO:47.543997;9.681948
URL;VALUE=URI:https://criticalmass.in/lindau-am-bodensee/2020-11-27
END:VEVENT
END:VCALENDAR
