BEGIN:VCALENDAR
VERSION:2.0
PRODID:-//Sabre//Sabre VObject 4.5.8//EN
CALSCALE:GREGORIAN
BEGIN:VEVENT
UID:criticalmass-one-lindau-am-bodensee-1598628600
DTSTAMP:20260423T230754Z
SUMMARY:Critical Mass Lindau 28.08.2020
DTSTART;TZID=Europe/Berlin:20200828T173000
DTEND;TZID=Europe/Berlin:20200828T193000
LOCATION:Lindau Hauptbahnhof am Hafen\, Fahrrad-Selbsthilfestation
GEO:47.543997;9.681948
URL;VALUE=URI:https://criticalmass.in/lindau-am-bodensee/2020-08-28
END:VEVENT
END:VCALENDAR
