BEGIN:VCALENDAR
VERSION:2.0
PRODID:-//Sabre//Sabre VObject 4.5.8//EN
CALSCALE:GREGORIAN
BEGIN:VEVENT
UID:criticalmass-one-lindau-am-bodensee-1593185400
DTSTAMP:20260424T092727Z
SUMMARY:Critical Mass Lindau 26.06.2020
DTSTART;TZID=Europe/Berlin:20200626T173000
DTEND;TZID=Europe/Berlin:20200626T193000
LOCATION:Lindau Hauptbahnhof am Hafen\, Fahrrad-Selbsthilfestation
GEO:47.543997;9.681948
URL;VALUE=URI:https://criticalmass.in/lindau-am-bodensee/2020-06-26
END:VEVENT
END:VCALENDAR
