BEGIN:VCALENDAR
VERSION:2.0
PRODID:-//Sabre//Sabre VObject 4.5.8//EN
CALSCALE:GREGORIAN
BEGIN:VEVENT
UID:criticalmass-one-lindau-am-bodensee-1567179000
DTSTAMP:20260422T082741Z
SUMMARY:Critical Mass Lindau 30.08.2019
DTSTART;TZID=Europe/Berlin:20190830T173000
DTEND;TZID=Europe/Berlin:20190830T193000
LOCATION:Lindau Hauptbahnhof am Hafen\, Fahrrad-Selbsthilfestation
GEO:47.543997;9.681948
URL;VALUE=URI:https://criticalmass.in/lindau-am-bodensee/2019-08-30
END:VEVENT
END:VCALENDAR
