BEGIN:VCALENDAR
VERSION:2.0
PRODID:-//Sabre//Sabre VObject 4.5.8//EN
CALSCALE:GREGORIAN
BEGIN:VEVENT
UID:criticalmass-one-lindau-am-bodensee-1561735800
DTSTAMP:20260424T110120Z
SUMMARY:Critical Mass Lindau 28. Juni 2019
DESCRIPTION:Wir blockieren nicht den Verkehr - Wir sind der Verkehr.\nBitte
  beachtet die Regeln der STVO!
DTSTART;TZID=Europe/Berlin:20190628T173000
DTEND;TZID=Europe/Berlin:20190628T193000
LOCATION:Vorm Hauptbahnhof Fahrrad-Selbsthilfestation
URL;VALUE=URI:https://criticalmass.in/lindau-am-bodensee/2019-06-28
END:VEVENT
END:VCALENDAR
