BEGIN:VCALENDAR
VERSION:2.0
PRODID:-//Sabre//Sabre VObject 4.5.8//EN
CALSCALE:GREGORIAN
BEGIN:VEVENT
UID:criticalmass-one-lindau-am-bodensee-1559316600
DTSTAMP:20260423T103202Z
SUMMARY:Critical Mass Lindau 31. Mai 2019
DTSTART;TZID=Europe/Berlin:20190531T173000
DTEND;TZID=Europe/Berlin:20190531T193000
URL;VALUE=URI:https://criticalmass.in/lindau-am-bodensee/2019-05-31
END:VEVENT
END:VCALENDAR
