BEGIN:VCALENDAR
VERSION:2.0
PRODID:-//Sabre//Sabre VObject 4.5.8//EN
CALSCALE:GREGORIAN
BEGIN:VEVENT
UID:criticalmass-one-lindau-am-bodensee-1556292600
DTSTAMP:20260423T085522Z
SUMMARY:Critical Mass Lindau 26. April 2019
DESCRIPTION:Unsere erste kritische Masse in Lindau!
DTSTART;TZID=Europe/Berlin:20190426T173000
DTEND;TZID=Europe/Berlin:20190426T193000
URL;VALUE=URI:https://criticalmass.in/lindau-am-bodensee/2019-04-26
END:VEVENT
END:VCALENDAR
