BEGIN:VCALENDAR
VERSION:2.0
PRODID:-//Sabre//Sabre VObject 4.5.8//EN
CALSCALE:GREGORIAN
BEGIN:VEVENT
UID:criticalmass-one-liege-1696001400
DTSTAMP:20260425T152028Z
SUMMARY:Masse Critique Liège 29.09.2023
DTSTART;TZID=Europe/Brussels:20230929T173000
DTEND;TZID=Europe/Brussels:20230929T193000
LOCATION:Place Saint-Léonard
GEO:50.648168;5.585239
URL;VALUE=URI:https://criticalmass.in/liege/2023-09-29
END:VEVENT
END:VCALENDAR
