BEGIN:VCALENDAR
VERSION:2.0
PRODID:-//Sabre//Sabre VObject 4.5.8//EN
CALSCALE:GREGORIAN
BEGIN:VEVENT
UID:criticalmass-one-liege-1601047800
DTSTAMP:20260426T030438Z
SUMMARY:Masse Critique Liège 25.09.2020
DTSTART;TZID=Europe/Brussels:20200925T173000
DTEND;TZID=Europe/Brussels:20200925T193000
LOCATION:Place Saint-Léonard
GEO:50.648168;5.585239
URL;VALUE=URI:https://criticalmass.in/liege/2020-09-25
END:VEVENT
END:VCALENDAR
