BEGIN:VCALENDAR
VERSION:2.0
PRODID:-//Sabre//Sabre VObject 4.5.8//EN
CALSCALE:GREGORIAN
BEGIN:VEVENT
UID:criticalmass-one-leipzig-1726401600
DTSTAMP:20260421T015936Z
SUMMARY:Kidical Mass Leipzig 15.09.2024
DESCRIPTION:14:00 Schmücken der Fahrräder\, Bastelstand\n15:00 Start zur 
 einstündigen Tour um den Innenstadtring
DTSTART;TZID=Europe/Berlin:20240915T140000
DTEND;TZID=Europe/Berlin:20240915T160000
LOCATION:Leipzig Simsonplatz vor dem Bundesverwaltungsgericht
GEO:51.333199;12.370387
URL;VALUE=URI:https://criticalmass.in/leipzig/kidical-mass-leipzig-septembe
 r-2024
END:VEVENT
END:VCALENDAR
