BEGIN:VCALENDAR
VERSION:2.0
PRODID:-//Sabre//Sabre VObject 4.5.8//EN
CALSCALE:GREGORIAN
BEGIN:VEVENT
UID:criticalmass-one-leipzig-1664107200
DTSTAMP:20260421T032419Z
SUMMARY:Kidical Mass Leipzig im September 2022
DTSTART;TZID=Europe/Berlin:20220925T140000
DTEND;TZID=Europe/Berlin:20220925T160000
URL;VALUE=URI:https://criticalmass.in/leipzig/kidical-mass-leipzig-septembe
 r-2022
END:VEVENT
END:VCALENDAR
