BEGIN:VCALENDAR
VERSION:2.0
PRODID:-//Sabre//Sabre VObject 4.5.8//EN
CALSCALE:GREGORIAN
BEGIN:VEVENT
UID:criticalmass-one-leipzig-1632054600
DTSTAMP:20260421T032434Z
SUMMARY:Kidical Mass Leipzig 19.09.2021
DTSTART;TZID=Europe/Berlin:20210919T143000
DTEND;TZID=Europe/Berlin:20210919T163000
LOCATION:Augustusplatz Mendebrunnen
URL;VALUE=URI:https://criticalmass.in/leipzig/kidical-mass-leipzig-septembe
 r-2021
END:VEVENT
END:VCALENDAR
