BEGIN:VCALENDAR
VERSION:2.0
PRODID:-//Sabre//Sabre VObject 4.5.8//EN
CALSCALE:GREGORIAN
BEGIN:VEVENT
UID:criticalmass-one-leipzig-1690560000
DTSTAMP:20260423T185913Z
SUMMARY:CMLPZ Critical Mass Leipzig 28.07.2023
DTSTART;TZID=Europe/Berlin:20230728T180000
DTEND;TZID=Europe/Berlin:20230728T200000
LOCATION:Augustusplatz
GEO:51.338980;12.380949
URL;VALUE=URI:https://criticalmass.in/leipzig/2023-07-28
END:VEVENT
END:VCALENDAR
