BEGIN:VCALENDAR
VERSION:2.0
PRODID:-//Sabre//Sabre VObject 4.5.8//EN
CALSCALE:GREGORIAN
BEGIN:VEVENT
UID:criticalmass-one-leipzig-1677258000
DTSTAMP:20260421T045428Z
SUMMARY:CMLPZ Critical Mass Leipzig 24.02.2023
DTSTART;TZID=Europe/Berlin:20230224T180000
DTEND;TZID=Europe/Berlin:20230224T200000
LOCATION:Augustusplatz
GEO:51.338980;12.380949
URL;VALUE=URI:https://criticalmass.in/leipzig/2023-02-24
END:VEVENT
END:VCALENDAR
