BEGIN:VCALENDAR
VERSION:2.0
PRODID:-//Sabre//Sabre VObject 4.5.8//EN
CALSCALE:GREGORIAN
BEGIN:VEVENT
UID:criticalmass-one-leipzig-1640970000
DTSTAMP:20260421T044729Z
SUMMARY:CMLPZ Critical Mass Leipzig 31.12.2021
DTSTART;TZID=Europe/Berlin:20211231T180000
DTEND;TZID=Europe/Berlin:20211231T200000
LOCATION:Augustusplatz
GEO:51.338980;12.380949
URL;VALUE=URI:https://criticalmass.in/leipzig/2021-12-31
END:VEVENT
END:VCALENDAR
