BEGIN:VCALENDAR
VERSION:2.0
PRODID:-//Sabre//Sabre VObject 4.5.8//EN
CALSCALE:GREGORIAN
BEGIN:VEVENT
UID:criticalmass-one-leipzig-1620399600
DTSTAMP:20260421T032115Z
SUMMARY:Ring frei fürs Rad
DESCRIPTION:Das Bündnis Verkehrswende Leipzig ruft auf zur Fahrraddemo unt
 er dem Motto:\n\n??? Ring frei fürs Rad!\n??? Flächengerechtigkeit für 
 alle Verkehrsarten
DTSTART;TZID=Europe/Berlin:20210507T170000
DTEND;TZID=Europe/Berlin:20210507T190000
LOCATION:Bose/Gottschedstraße
URL;VALUE=URI:https://criticalmass.in/leipzig/2021-05-07
END:VEVENT
END:VCALENDAR
