BEGIN:VCALENDAR
VERSION:2.0
PRODID:-//Sabre//Sabre VObject 4.5.8//EN
CALSCALE:GREGORIAN
BEGIN:VEVENT
UID:criticalmass-one-leipzig-1604077200
DTSTAMP:20260421T062316Z
SUMMARY:CMLPZ Critical Mass Leipzig 30.10.2020
DTSTART;TZID=Europe/Berlin:20201030T180000
DTEND;TZID=Europe/Berlin:20201030T200000
LOCATION:Augustusplatz
GEO:51.338980;12.380949
URL;VALUE=URI:https://criticalmass.in/leipzig/2020-10-30
END:VEVENT
END:VCALENDAR
