BEGIN:VCALENDAR
VERSION:2.0
PRODID:-//Sabre//Sabre VObject 4.5.8//EN
CALSCALE:GREGORIAN
BEGIN:VEVENT
UID:criticalmass-one-leipzig-1598630400
DTSTAMP:20260421T030923Z
SUMMARY:CMLPZ Critical Mass Leipzig 28.08.2020
DESCRIPTION:Durchweg angenehmes Wetter ca. 18:30 Uhr losgefahren und 20:45 
 Uhr wieder zurück gewesen. Am ersten südlichen Kreisverkehr eine Gewisse
  Zeit gezweiteilt gewesen.
DTSTART;TZID=Europe/Berlin:20200828T180000
DTEND;TZID=Europe/Berlin:20200828T200000
LOCATION:Augustusplatz
GEO:51.338980;12.380949
URL;VALUE=URI:https://criticalmass.in/leipzig/2020-08-28
END:VEVENT
END:VCALENDAR
