BEGIN:VCALENDAR
VERSION:2.0
PRODID:-//Sabre//Sabre VObject 4.5.8//EN
CALSCALE:GREGORIAN
BEGIN:VEVENT
UID:criticalmass-one-leipzig-1595073600
DTSTAMP:20260421T044644Z
SUMMARY:CSD-Mass
DESCRIPTION:Da es in diesem Jahr keine große Demo zum CSD gibt\, wollen wi
 r gemeinsam etwas Rad fahren und dann zur Ausstellung auf den Markt.
DTSTART;TZID=Europe/Berlin:20200718T140000
DTEND;TZID=Europe/Berlin:20200718T160000
LOCATION:Augustusplatz
GEO:51.338682;12.380648
URL;VALUE=URI:https://criticalmass.in/leipzig/2020-07-18
END:VEVENT
END:VCALENDAR
