BEGIN:VCALENDAR
VERSION:2.0
PRODID:-//Sabre//Sabre VObject 4.5.8//EN
CALSCALE:GREGORIAN
BEGIN:VEVENT
UID:criticalmass-one-leipzig-1590768000
DTSTAMP:20260421T044404Z
SUMMARY:CMLPZ Critical Mass Leipzig 29.05.2020
DESCRIPTION:https://twitter.com/EndeGelaendeLE/status/1265977340724744192
DTSTART;TZID=Europe/Berlin:20200529T180000
DTEND;TZID=Europe/Berlin:20200529T200000
LOCATION:Augustusplatz
GEO:51.338980;12.380949
URL;VALUE=URI:https://criticalmass.in/leipzig/2020-05-29
END:VEVENT
END:VCALENDAR
