BEGIN:VCALENDAR
VERSION:2.0
PRODID:-//Sabre//Sabre VObject 4.5.8//EN
CALSCALE:GREGORIAN
BEGIN:VEVENT
UID:criticalmass-one-leipzig-1577466000
DTSTAMP:20260421T031736Z
SUMMARY:Critical Mass Leipzig + 36C3
DESCRIPTION:Zwischen Weihnachten und Silvester gastiert der 36. Chaos Commu
 nication Congress in den Hallen der Neuen Messe in Leipzig. Das diesjähri
 ge Motto ist aktueller denn je: „Resource exhaustion“\n\nDer Chaos Com
 puter Club [schreibt in seinem Blog dazu]([https://www.ccc.de/de/updates/2
 019/36c3-in-leipzig](https://www.ccc.de/de/updates/2019/36c3-in-leipzig)):
 \n\n>**36C3: Resource exhaustion**\n> Das Erschöpfen von Ressourcen ist e
 ine Form des  [Angriffs auf IT-Systeme](https://en.wikipedia.org/wiki/Reso
 urce_exhaustion_attack)\, die als plump und destruktiv gilt. Auch mit zwei
  Großveranstaltungen in einem Jahr möchten wir einen solchen Angriff nic
 ht gegen uns selbst richten\, sondern planvoll und weise mit unseren Resso
 urcen umgehen:\n> Wer die eigenen Ressourcen kennt\, setzt  [Grenzen\, die
  deren Erschöpfung verhindern.](http://man7.org/linux/man-pages/man5/limi
 ts.conf.5.html)\n> Auf internationaler Ebene scheint diese Weisheit zu feh
 len: Sehenden Auges werden Ressourcen erschöpft\, statt ihren Verbrauch s
 innvoll zu begrenzen. Beim 34C3 vor zwei Jahren  [widmeten wir dem Klimawa
 ndel einen eigenen Tag im Programm](https://fahrplan.events.ccc.de/congres
 s/2017/Fahrplan/schedule/3.html)  und trugen im Jahr darauf gemeinsam mit 
 anderen NGOs aus der Bürgerrechts- und Umweltbewegung zur  [Konferenz Bit
 s&Bäume](https://bits-und-baeume.org/info/de)  bei.\n> In dieser Traditio
 n sehen wir auch das Motto des  **36C3: Resource Exhaustion**.\n\nPassend 
 zum Gedanken von Nachhaltigkeit\, Klima- und Umweltschutz gibt es natürli
 ch auch in diesem Jahr eine passende Critical Mass direkt vor der Haustür
 .\n\nEine **Critical Mass** ist eine kleine Radtour unter Berücksichtigun
 g der Straßenverkehrs-Ordnung. Für einige Teilnehmer\\*innen ist die Cri
 tical Mass lediglich eine nette Gelegenheit\, um gemeinsam mit Freund\\*in
 nen und Gleichgesinnten durch die Straßen zu radeln\, andere möchten ger
 ne auf die Belange des Radverkehrs aufmerksam machen. Generell gilt: Die C
 ritical Mass ist\, was du draus machst. Das gilt übrigens auch für die R
 oute\, die wird vorgegeben von jenen Menschen\, die vorne an der Spitze fa
 hren.\n\nIn Leipzig wird es etwa eine Stunde lang durch die Stadt gehen\, 
 wir werden erfahrungsgemäß den Bereich der Innenstadt nicht verlassen. A
 nschließend wird noch genügend Zeit für ein geselliges Beisammensein be
 i einem Bier bleiben oder ihr fahrt zusammen wieder zurück zur Messe.\n\n
 **Ihr braucht nicht viel**\, lediglich ein funktionstüchtiges Fahrrad mit
  funktionierender Beleuchtung\, warme Kleidung und etwa zweieinhalb Stunde
 n Zeit am Freitagabend. Wenn ihr kein eigenes Fahrrad in Leipzig stehen ha
 ben solltet\, könnt ihr euch eines der unzähligen Leihräder ausleihen.\
 n\n**Los geht es um 18 Uhr** am Augustusplatz gegenüber dem Leipziger Gew
 andhaus in der Innenstadt\, wir starten bereits **um 17:15 Uhr** mit einer
  so genannten **Mini-Mass vor dem Haupteingang der neuen Messe**.\n\nBeach
 tet bitte\, dass wir für diese Fahrt auf Regelungen aus der Straßenverke
 hrs-Ordnung zurückgreifen\, die explizit nur für den Radverkehr gelten. 
 Die Teilnahme mit einem Roller\, ob elektrisch betrieben oder nicht\, kön
 nte insofern problematisch sein. Andererseits: Wer soll es euch verbieten?
  Es ist ja schließlich nur eine fröhliche Radtour.
DTSTART;TZID=Europe/Berlin:20191227T180000
DTEND;TZID=Europe/Berlin:20191227T200000
LOCATION:Augustusplatz
GEO:51.338980;12.380949
URL;VALUE=URI:https://criticalmass.in/leipzig/2019-12-27
END:VEVENT
END:VCALENDAR
