BEGIN:VCALENDAR
VERSION:2.0
PRODID:-//Sabre//Sabre VObject 4.5.8//EN
CALSCALE:GREGORIAN
BEGIN:VEVENT
UID:criticalmass-one-leipzig-1540569600
DTSTAMP:20260421T031736Z
SUMMARY:Critical Mass Leipzig 26.10.2018
DESCRIPTION:Ich komme mit kumpel
DTSTART;TZID=Europe/Berlin:20181026T180000
DTEND;TZID=Europe/Berlin:20181026T200000
LOCATION:Augustusplatz
GEO:51.338980;12.380949
URL;VALUE=URI:https://criticalmass.in/leipzig/2018-10-26
END:VEVENT
END:VCALENDAR
