BEGIN:VCALENDAR
VERSION:2.0
PRODID:-//Sabre//Sabre VObject 4.5.8//EN
CALSCALE:GREGORIAN
BEGIN:VEVENT
UID:criticalmass-one-leipzig-1514566800
DTSTAMP:20260425T212400Z
SUMMARY:Critical Mass Leipzig + 34C3
DESCRIPTION:Die Critical Mass Leipzig fährt jeden letzten Freitag im Monat
  auf einer kleinen Tour durch Leipzig. Bring dein Fahrrad mit oder leihe d
 ir ein Nextbike aus\, es lohnt sich.\n\nDie Critical Mass versteht sich ni
 cht als Demonstration im rechtlichen Sinne\, sondern eher als locker zusam
 mengeschlossene Radtour. Jeder versteht für sich etwas anderes darunter: 
 Für den einen mag es eine Party auf zwei Rädern sein\, der andere will n
 ur ein paar Freunde treffen\, der Dritte ein bisschen durch die Stadt rade
 ln\, der Vierte vielleicht tatsächlich für eine bessere Infrastruktur f
 ür den Radverkehr aufmerksam machen.\n\nUm 17 Uhr startet eine so genannt
 e Mini-Mass oben auf dem neuen Messegelände zwischen dem Haupteingang und
  dem Messesee\, du musst also nicht allein zum Treffpunkt durch die Stadt 
 radeln.
DTSTART;TZID=Europe/Berlin:20171229T180000
DTEND;TZID=Europe/Berlin:20171229T200000
LOCATION:Augustusplatz
GEO:51.338980;12.380949
URL;VALUE=URI:https://criticalmass.in/leipzig/2017-12-29
END:VEVENT
END:VCALENDAR
