BEGIN:VCALENDAR
VERSION:2.0
PRODID:-//Sabre//Sabre VObject 4.5.8//EN
CALSCALE:GREGORIAN
BEGIN:VEVENT
UID:criticalmass-one-leipzig-1501257600
DTSTAMP:20260421T044159Z
SUMMARY:Critical Mass Leipzig 28.07.2017
DTSTART;TZID=Europe/Berlin:20170728T180000
DTEND;TZID=Europe/Berlin:20170728T200000
LOCATION:Augustusplatz
GEO:51.338980;12.380949
URL;VALUE=URI:https://criticalmass.in/leipzig/2017-07-28
END:VEVENT
END:VCALENDAR
