BEGIN:VCALENDAR
VERSION:2.0
PRODID:-//Sabre//Sabre VObject 4.5.8//EN
CALSCALE:GREGORIAN
BEGIN:VEVENT
UID:criticalmass-one-leipzig-1498838400
DTSTAMP:20260421T044201Z
SUMMARY:Critical Mass Leipzig 30.06.2017
DTSTART;TZID=Europe/Berlin:20170630T180000
DTEND;TZID=Europe/Berlin:20170630T200000
LOCATION:Augustusplatz
GEO:51.338980;12.380949
URL;VALUE=URI:https://criticalmass.in/leipzig/2017-06-30
END:VEVENT
END:VCALENDAR
